BEGIN:VCALENDAR
VERSION:2.0
PRODID:-//Diócesis de San Sebastián - ECPv6.5.2//NONSGML v1.0//EN
CALSCALE:GREGORIAN
METHOD:PUBLISH
X-ORIGINAL-URL:https://elizagipuzkoa.org
X-WR-CALDESC:Events for Diócesis de San Sebastián
REFRESH-INTERVAL;VALUE=DURATION:PT1H
X-Robots-Tag:noindex
X-PUBLISHED-TTL:PT1H
BEGIN:VTIMEZONE
TZID:Europe/Madrid
BEGIN:DAYLIGHT
TZOFFSETFROM:+0100
TZOFFSETTO:+0200
TZNAME:CEST
DTSTART:20250330T010000
END:DAYLIGHT
BEGIN:STANDARD
TZOFFSETFROM:+0200
TZOFFSETTO:+0100
TZNAME:CET
DTSTART:20251026T010000
END:STANDARD
END:VTIMEZONE
BEGIN:VEVENT
DTSTART;VALUE=DATE:20251129
DTEND;VALUE=DATE:20251201
DTSTAMP:20260421T180226
CREATED:20251126T134145Z
LAST-MODIFIED:20251126T134145Z
UID:10001362-1764374400-1764547199@elizagipuzkoa.org
SUMMARY:Campaña de Navidad (Pastoral Penitenciaria)
DESCRIPTION:
URL:https://elizagipuzkoa.org/evento/campana-de-navidad-pastoral-penitenciaria/
CATEGORIES:Actividades diocesanas,Sociocaritativa
END:VEVENT
BEGIN:VEVENT
DTSTART;VALUE=DATE:20251130
DTEND;VALUE=DATE:20251201
DTSTAMP:20260421T180226
CREATED:20251126T134849Z
LAST-MODIFIED:20251126T134849Z
UID:10001366-1764460800-1764547199@elizagipuzkoa.org
SUMMARY:1 Adviento
DESCRIPTION:
URL:https://elizagipuzkoa.org/evento/1-adviento/
CATEGORIES:Iglesia
END:VEVENT
END:VCALENDAR