BEGIN:VCALENDAR
VERSION:2.0
PRODID:-//Diócesis de San Sebastián - ECPv6.5.2//NONSGML v1.0//EN
CALSCALE:GREGORIAN
METHOD:PUBLISH
X-ORIGINAL-URL:https://elizagipuzkoa.org
X-WR-CALDESC:Events for Diócesis de San Sebastián
REFRESH-INTERVAL;VALUE=DURATION:PT1H
X-Robots-Tag:noindex
X-PUBLISHED-TTL:PT1H
BEGIN:VTIMEZONE
TZID:Europe/Madrid
BEGIN:DAYLIGHT
TZOFFSETFROM:+0100
TZOFFSETTO:+0200
TZNAME:CEST
DTSTART:20260329T010000
END:DAYLIGHT
BEGIN:STANDARD
TZOFFSETFROM:+0200
TZOFFSETTO:+0100
TZNAME:CET
DTSTART:20261025T010000
END:STANDARD
END:VTIMEZONE
BEGIN:VEVENT
DTSTART;VALUE=DATE:20260118
DTEND;VALUE=DATE:20260126
DTSTAMP:20260421T144002
CREATED:20251230T080711Z
LAST-MODIFIED:20251230T080853Z
UID:10001496-1768694400-1769385599@elizagipuzkoa.org
SUMMARY:Semana de Oración por la Unidad de los Cristianos
DESCRIPTION:
URL:https://elizagipuzkoa.org/evento/semana-de-oracion-por-la-unidad-de-los-cristianos/
CATEGORIES:Iglesia
END:VEVENT
BEGIN:VEVENT
DTSTART;TZID=Europe/Madrid:20260124T093000
DTEND;TZID=Europe/Madrid:20260124T130000
DTSTAMP:20260421T144002
CREATED:20251230T073215Z
LAST-MODIFIED:20251230T073215Z
UID:10001492-1769247000-1769259600@elizagipuzkoa.org
SUMMARY:Jornada formativa para el laicado
DESCRIPTION:“Sal y luz del mundo: laicos transformado la vida pública”\nSeminario diocesano\n24 de enero\, 9:30h -13:00h
URL:https://elizagipuzkoa.org/evento/jornada-formativa-para-el-laicado/
CATEGORIES:Actividades diocesanas
ATTACH;FMTTYPE=image/jpeg:https://elizagipuzkoa.org/wp-content/uploads/2025/12/Jornada_formativa_laicado.jpg
END:VEVENT
END:VCALENDAR