BEGIN:VCALENDAR
VERSION:2.0
PRODID:-//Diócesis de San Sebastián - ECPv6.5.2//NONSGML v1.0//EN
CALSCALE:GREGORIAN
METHOD:PUBLISH
X-ORIGINAL-URL:https://elizagipuzkoa.org
X-WR-CALDESC:Events for Diócesis de San Sebastián
REFRESH-INTERVAL;VALUE=DURATION:PT1H
X-Robots-Tag:noindex
X-PUBLISHED-TTL:PT1H
BEGIN:VTIMEZONE
TZID:Europe/Madrid
BEGIN:DAYLIGHT
TZOFFSETFROM:+0100
TZOFFSETTO:+0200
TZNAME:CEST
DTSTART:20260329T010000
END:DAYLIGHT
BEGIN:STANDARD
TZOFFSETFROM:+0200
TZOFFSETTO:+0100
TZNAME:CET
DTSTART:20261025T010000
END:STANDARD
END:VTIMEZONE
BEGIN:VEVENT
DTSTART;VALUE=DATE:20260429
DTEND;VALUE=DATE:20260430
DTSTAMP:20260419T163641
CREATED:20260331T114648Z
LAST-MODIFIED:20260331T114648Z
UID:10001714-1777420800-1777507199@elizagipuzkoa.org
SUMMARY:Celebración Pascua: Arroces diversos (C.D.)
DESCRIPTION:
URL:https://elizagipuzkoa.org/evento/celebracion-pascua-arroces-diversos-c-d/
CATEGORIES:Iglesia
END:VEVENT
BEGIN:VEVENT
DTSTART;TZID=Europe/Madrid:20260429T103000
DTEND;TZID=Europe/Madrid:20260429T140000
DTSTAMP:20260419T163641
CREATED:20260331T114503Z
LAST-MODIFIED:20260331T114503Z
UID:10001712-1777458600-1777471200@elizagipuzkoa.org
SUMMARY:Consejo ejecutivo
DESCRIPTION:
URL:https://elizagipuzkoa.org/evento/consejo-ejecutivo-2/
CATEGORIES:Obispo,Vicario General
END:VEVENT
END:VCALENDAR