BEGIN:VCALENDAR
VERSION:2.0
PRODID:-//Diócesis de San Sebastián - ECPv6.5.2//NONSGML v1.0//EN
CALSCALE:GREGORIAN
METHOD:PUBLISH
X-ORIGINAL-URL:https://elizagipuzkoa.org
X-WR-CALDESC:Events for Diócesis de San Sebastián
REFRESH-INTERVAL;VALUE=DURATION:PT1H
X-Robots-Tag:noindex
X-PUBLISHED-TTL:PT1H
BEGIN:VTIMEZONE
TZID:Europe/Madrid
BEGIN:DAYLIGHT
TZOFFSETFROM:+0100
TZOFFSETTO:+0200
TZNAME:CEST
DTSTART:20250330T010000
END:DAYLIGHT
BEGIN:STANDARD
TZOFFSETFROM:+0200
TZOFFSETTO:+0100
TZNAME:CET
DTSTART:20251026T010000
END:STANDARD
END:VTIMEZONE
BEGIN:VEVENT
DTSTART;TZID=Europe/Madrid:20251201T160000
DTEND;TZID=Europe/Madrid:20251201T180000
DTSTAMP:20260421T160827
CREATED:20251128T114330Z
LAST-MODIFIED:20251128T114330Z
UID:10001370-1764604800-1764612000@elizagipuzkoa.org
SUMMARY:Reunión del Sr. Obispo con los responsables de las Escuelas Católicas
DESCRIPTION:
URL:https://elizagipuzkoa.org/evento/reunion-del-sr-obispo-con-los-responsables-de-las-escuelas-catolicas/
CATEGORIES:Obispo
END:VEVENT
BEGIN:VEVENT
DTSTART;TZID=Europe/Madrid:20251202T100000
DTEND;TZID=Europe/Madrid:20251202T120000
DTSTAMP:20260421T160827
CREATED:20251126T135440Z
LAST-MODIFIED:20251126T135440Z
UID:10001368-1764669600-1764676800@elizagipuzkoa.org
SUMMARY:Reunión del Sr. Obispo con el área de Evangelización
DESCRIPTION:
URL:https://elizagipuzkoa.org/evento/reunion-del-sr-obispo-con-el-area-de-evangelizacion/
CATEGORIES:Obispo
END:VEVENT
BEGIN:VEVENT
DTSTART;TZID=Europe/Madrid:20251203T120000
DTEND;TZID=Europe/Madrid:20251203T140000
DTSTAMP:20260421T160827
CREATED:20251201T093306Z
LAST-MODIFIED:20251201T093306Z
UID:10001378-1764763200-1764770400@elizagipuzkoa.org
SUMMARY:Presentación del informe FOESSA en Vitoria con la presencia de Mons. Fernando Prado Ayuso
DESCRIPTION:
URL:https://elizagipuzkoa.org/evento/presentacion-del-informe-foessa-en-vitoria-con-la-presencia-de-mons-fernando-prado-ayuso/
CATEGORIES:Obispo
END:VEVENT
BEGIN:VEVENT
DTSTART;TZID=Europe/Madrid:20251204T103000
DTEND;TZID=Europe/Madrid:20251204T140000
DTSTAMP:20260421T160827
CREATED:20251203T115040Z
LAST-MODIFIED:20251203T115040Z
UID:10001380-1764844200-1764856800@elizagipuzkoa.org
SUMMARY:Consejo ejecutivo
DESCRIPTION:
URL:https://elizagipuzkoa.org/evento/consejo-ejecutivo-8/
CATEGORIES:Obispo,Vicario General
END:VEVENT
BEGIN:VEVENT
DTSTART;VALUE=DATE:20251205
DTEND;VALUE=DATE:20251209
DTSTAMP:20260421T160827
CREATED:20251203T115239Z
LAST-MODIFIED:20251203T115239Z
UID:10001382-1764892800-1765238399@elizagipuzkoa.org
SUMMARY:Ejercicios para jóvenes
DESCRIPTION:
URL:https://elizagipuzkoa.org/evento/ejercicios-para-jovenes/
CATEGORIES:Actividades diocesanas,Retiros y peregrinaciones
END:VEVENT
BEGIN:VEVENT
DTSTART;VALUE=DATE:20251207
DTEND;VALUE=DATE:20251208
DTSTAMP:20260421T160827
CREATED:20251203T115502Z
LAST-MODIFIED:20251203T115502Z
UID:10001384-1765065600-1765151999@elizagipuzkoa.org
SUMMARY:2 Adviento
DESCRIPTION:
URL:https://elizagipuzkoa.org/evento/2-adviento/
CATEGORIES:Iglesia
END:VEVENT
BEGIN:VEVENT
DTSTART;VALUE=DATE:20251208
DTEND;VALUE=DATE:20251209
DTSTAMP:20260421T160827
CREATED:20251203T115816Z
LAST-MODIFIED:20251203T115816Z
UID:10001386-1765152000-1765238399@elizagipuzkoa.org
SUMMARY:Día del Seminario (Colecta)
DESCRIPTION:
URL:https://elizagipuzkoa.org/evento/dia-del-seminario-colecta/
CATEGORIES:Iglesia
END:VEVENT
BEGIN:VEVENT
DTSTART;VALUE=DATE:20251208
DTEND;VALUE=DATE:20251209
DTSTAMP:20260421T160827
CREATED:20251203T120016Z
LAST-MODIFIED:20251203T120016Z
UID:10001388-1765152000-1765238399@elizagipuzkoa.org
SUMMARY:Día de la Inmaculada Concepción
DESCRIPTION:
URL:https://elizagipuzkoa.org/evento/dia-de-la-inmaculada-concepcion/
CATEGORIES:Fiestas y días señalados
END:VEVENT
BEGIN:VEVENT
DTSTART;TZID=Europe/Madrid:20251209T120000
DTEND;TZID=Europe/Madrid:20251209T140000
DTSTAMP:20260421T160827
CREATED:20251128T114933Z
LAST-MODIFIED:20251128T114933Z
UID:10001372-1765281600-1765288800@elizagipuzkoa.org
SUMMARY:Inauguración del centro Miriam etxea en Errenteria\, con la presencia del Sr. Obispo
DESCRIPTION:
URL:https://elizagipuzkoa.org/evento/inauguracion-del-centro-miriam-etxea-en-errenteria-con-la-presencia-del-sr-obispo/
CATEGORIES:Obispo
END:VEVENT
BEGIN:VEVENT
DTSTART;TZID=Europe/Madrid:20251210T100000
DTEND;TZID=Europe/Madrid:20251210T120000
DTSTAMP:20260421T160827
CREATED:20251203T120553Z
LAST-MODIFIED:20251203T120553Z
UID:10001390-1765360800-1765368000@elizagipuzkoa.org
SUMMARY:Consejo de Gobierno
DESCRIPTION:
URL:https://elizagipuzkoa.org/evento/consejo-de-gobierno-3/
CATEGORIES:Iglesia,Obispo,Vicario General
END:VEVENT
BEGIN:VEVENT
DTSTART;TZID=Europe/Madrid:20251210T203000
DTEND;TZID=Europe/Madrid:20251210T213000
DTSTAMP:20260421T160827
CREATED:20251128T115255Z
LAST-MODIFIED:20251128T115255Z
UID:10001374-1765398600-1765402200@elizagipuzkoa.org
SUMMARY:Celebración María Reina
DESCRIPTION:
URL:https://elizagipuzkoa.org/evento/celebracion-maria-reina/
CATEGORIES:Obispo
END:VEVENT
BEGIN:VEVENT
DTSTART;TZID=Europe/Madrid:20251211T103000
DTEND;TZID=Europe/Madrid:20251211T130000
DTSTAMP:20260421T160827
CREATED:20251209T130829Z
LAST-MODIFIED:20251209T130829Z
UID:10001416-1765449000-1765458000@elizagipuzkoa.org
SUMMARY:Comisión renovación Pastoral
DESCRIPTION:
URL:https://elizagipuzkoa.org/evento/comision-renovacion-pastoral-2/
CATEGORIES:Obispo,Vicario General
END:VEVENT
BEGIN:VEVENT
DTSTART;TZID=Europe/Madrid:20251212T110000
DTEND;TZID=Europe/Madrid:20251212T130000
DTSTAMP:20260421T160827
CREATED:20251128T115618Z
LAST-MODIFIED:20251210T074411Z
UID:10001376-1765537200-1765544400@elizagipuzkoa.org
SUMMARY:Votos solemnes en las Brigidas de Lasarte-Oria con la presencia del Sr. Obispo
DESCRIPTION:
URL:https://elizagipuzkoa.org/evento/votos-solemnes-en-las-brigidas-de-lasarte-oria-con-la-presencia-del-sr-obispo/
CATEGORIES:Obispo
END:VEVENT
BEGIN:VEVENT
DTSTART;VALUE=DATE:20251214
DTEND;VALUE=DATE:20251215
DTSTAMP:20260421T160827
CREATED:20251203T120714Z
LAST-MODIFIED:20251203T120714Z
UID:10001392-1765670400-1765756799@elizagipuzkoa.org
SUMMARY:3 Adviento
DESCRIPTION:
URL:https://elizagipuzkoa.org/evento/3-adviento/
CATEGORIES:Iglesia
END:VEVENT
BEGIN:VEVENT
DTSTART;VALUE=DATE:20251214
DTEND;VALUE=DATE:20251215
DTSTAMP:20260421T160827
CREATED:20251203T120934Z
LAST-MODIFIED:20251203T120934Z
UID:10001394-1765670400-1765756799@elizagipuzkoa.org
SUMMARY:Retiro para Personas Migradas
DESCRIPTION:
URL:https://elizagipuzkoa.org/evento/retiro-para-personas-migradas/
CATEGORIES:Retiros y peregrinaciones
END:VEVENT
BEGIN:VEVENT
DTSTART;TZID=Europe/Madrid:20251214T120000
DTEND;TZID=Europe/Madrid:20251214T140000
DTSTAMP:20260421T160827
CREATED:20251209T082212Z
LAST-MODIFIED:20251209T082505Z
UID:10001410-1765713600-1765720800@elizagipuzkoa.org
SUMMARY:Cierre de la Puerta Santa de Arantzazu\, con presencia del Vicario General D. Mikel Aranguren
DESCRIPTION:
URL:https://elizagipuzkoa.org/evento/cierre-de-la-puerta-santa-de-arantzazu-con-presencia-del-vicario-general-mikel-aranguren/
CATEGORIES:Vicario General
END:VEVENT
BEGIN:VEVENT
DTSTART;VALUE=DATE:20251215
DTEND;VALUE=DATE:20251220
DTSTAMP:20260421T160827
CREATED:20251203T122133Z
LAST-MODIFIED:20251203T122133Z
UID:10001396-1765756800-1766188799@elizagipuzkoa.org
SUMMARY:Topagunea (Cáritas Diocesana)
DESCRIPTION:
URL:https://elizagipuzkoa.org/evento/topagunea-caritas-diocesana/
CATEGORIES:Iglesia,Sociocaritativa
END:VEVENT
BEGIN:VEVENT
DTSTART;VALUE=DATE:20251217
DTEND;VALUE=DATE:20251218
DTSTAMP:20260421T160827
CREATED:20251203T122439Z
LAST-MODIFIED:20251203T122439Z
UID:10001398-1765929600-1766015999@elizagipuzkoa.org
SUMMARY:3er Aniversario de la ordenación episcopal de D. Fernando Prado Ayuso\, CMF
DESCRIPTION:
URL:https://elizagipuzkoa.org/evento/3er-aniversario-de-la-ordenacion-episcopal-de-d-fernando-prado-ayuso-cmf/
CATEGORIES:Obispo
END:VEVENT
BEGIN:VEVENT
DTSTART;TZID=Europe/Madrid:20251217T103000
DTEND;TZID=Europe/Madrid:20251217T140000
DTSTAMP:20260421T160827
CREATED:20251209T081843Z
LAST-MODIFIED:20251209T081843Z
UID:10001408-1765967400-1765980000@elizagipuzkoa.org
SUMMARY:Retiro de Adviento para el Clero en Guadalupe (Hondarribia)
DESCRIPTION:
URL:https://elizagipuzkoa.org/evento/retiro-de-adviento-para-el-clero-en-guadalupe-hondarribia/
CATEGORIES:Retiros y peregrinaciones
END:VEVENT
BEGIN:VEVENT
DTSTART;VALUE=DATE:20251221
DTEND;VALUE=DATE:20251222
DTSTAMP:20260421T160828
CREATED:20251203T123405Z
LAST-MODIFIED:20251203T123405Z
UID:10001402-1766275200-1766361599@elizagipuzkoa.org
SUMMARY:4 Adviento
DESCRIPTION:
URL:https://elizagipuzkoa.org/evento/4-adviento/
CATEGORIES:Iglesia
END:VEVENT
BEGIN:VEVENT
DTSTART;VALUE=DATE:20251221
DTEND;VALUE=DATE:20251222
DTSTAMP:20260421T160828
CREATED:20251203T123600Z
LAST-MODIFIED:20251203T123600Z
UID:10001404-1766275200-1766361599@elizagipuzkoa.org
SUMMARY:Campaña Navidad Caritas (Colecta)
DESCRIPTION:
URL:https://elizagipuzkoa.org/evento/campana-navidad-caritas-colecta/
CATEGORIES:Iglesia,Sociocaritativa
END:VEVENT
BEGIN:VEVENT
DTSTART;TZID=Europe/Madrid:20251221T123000
DTEND;TZID=Europe/Madrid:20251221T143000
DTSTAMP:20260421T160828
CREATED:20251203T123940Z
LAST-MODIFIED:20251203T123940Z
UID:10001406-1766320200-1766327400@elizagipuzkoa.org
SUMMARY:Misa Homenaje a Juan Mari Aizpurua en el Santuario de Santa María de Itziar
DESCRIPTION:
URL:https://elizagipuzkoa.org/evento/misa-homenaje-a-juan-mari-aizpurua-en-el-santuario-de-santa-maria-de-itziar/
CATEGORIES:Iglesia
END:VEVENT
BEGIN:VEVENT
DTSTART;TZID=Europe/Madrid:20251224T130000
DTEND;TZID=Europe/Madrid:20251224T150000
DTSTAMP:20260421T160828
CREATED:20251223T102005Z
LAST-MODIFIED:20251223T102005Z
UID:10001422-1766581200-1766588400@elizagipuzkoa.org
SUMMARY:Visita del Sr. Obispo al centro Aterpe de Caritas
DESCRIPTION:
URL:https://elizagipuzkoa.org/evento/visita-del-sr-obispo-al-centro-aterpe-de-caritas/
CATEGORIES:Obispo,Sociocaritativa
END:VEVENT
BEGIN:VEVENT
DTSTART;TZID=Europe/Madrid:20251225T120000
DTEND;TZID=Europe/Madrid:20251225T133000
DTSTAMP:20260421T160828
CREATED:20251223T102648Z
LAST-MODIFIED:20251223T102648Z
UID:10001424-1766664000-1766669400@elizagipuzkoa.org
SUMMARY:Navidad. Misa en la Catedral del Buen Pastor presidida por el Sr. Obispo
DESCRIPTION:
URL:https://elizagipuzkoa.org/evento/navidad-misa-en-la-catedral-del-buen-pastor-presidida-por-el-sr-obispo/
CATEGORIES:Fiestas y días señalados,Obispo
END:VEVENT
BEGIN:VEVENT
DTSTART;TZID=Europe/Madrid:20251228T113000
DTEND;TZID=Europe/Madrid:20251228T130000
DTSTAMP:20260421T160828
CREATED:20251218T140626Z
LAST-MODIFIED:20251218T140626Z
UID:10001420-1766921400-1766926800@elizagipuzkoa.org
SUMMARY:Cierre de la Puerta Santa del Santuario de Loiola con la presencia del Sr. Obispo
DESCRIPTION:
URL:https://elizagipuzkoa.org/evento/cierre-de-la-puerta-santa-del-santuario-de-loiola-con-la-presencia-del-sr-obispo/
CATEGORIES:Obispo
END:VEVENT
BEGIN:VEVENT
DTSTART;TZID=Europe/Madrid:20251228T190000
DTEND;TZID=Europe/Madrid:20251228T210000
DTSTAMP:20260421T160828
CREATED:20251218T140054Z
LAST-MODIFIED:20251226T105920Z
UID:10001418-1766948400-1766955600@elizagipuzkoa.org
SUMMARY:Clausura del doble año jubilar en la Catedral del Buen Pastor\, presidida por el Sr. Obispo
DESCRIPTION:
URL:https://elizagipuzkoa.org/evento/cierre-de-la-puerta-santa-de-la-catedral-de-buen-pastor-con-la-presencia-del-sr-obispo/
CATEGORIES:Fiestas y días señalados,Obispo
END:VEVENT
BEGIN:VEVENT
DTSTART;TZID=Europe/Madrid:20251230T100000
DTEND;TZID=Europe/Madrid:20251230T120000
DTSTAMP:20260421T160828
CREATED:20251226T111041Z
LAST-MODIFIED:20251226T111041Z
UID:10001426-1767088800-1767096000@elizagipuzkoa.org
SUMMARY:Consejo ejecutivo
DESCRIPTION:
URL:https://elizagipuzkoa.org/evento/consejo-ejecutivo/
CATEGORIES:Obispo,Vicario General
END:VEVENT
END:VCALENDAR