BEGIN:VCALENDAR
VERSION:2.0
PRODID:-//Diócesis de San Sebastián - ECPv6.5.2//NONSGML v1.0//EN
CALSCALE:GREGORIAN
METHOD:PUBLISH
X-WR-CALNAME:Diócesis de San Sebastián
X-ORIGINAL-URL:https://elizagipuzkoa.org
X-WR-CALDESC:Events for Diócesis de San Sebastián
REFRESH-INTERVAL;VALUE=DURATION:PT1H
X-Robots-Tag:noindex
X-PUBLISHED-TTL:PT1H
BEGIN:VTIMEZONE
TZID:Europe/Madrid
BEGIN:DAYLIGHT
TZOFFSETFROM:+0100
TZOFFSETTO:+0200
TZNAME:CEST
DTSTART:20260329T010000
END:DAYLIGHT
BEGIN:STANDARD
TZOFFSETFROM:+0200
TZOFFSETTO:+0100
TZNAME:CET
DTSTART:20261025T010000
END:STANDARD
END:VTIMEZONE
BEGIN:VEVENT
DTSTART;VALUE=DATE:20260101
DTEND;VALUE=DATE:20260102
DTSTAMP:20260421T131529
CREATED:20251230T081001Z
LAST-MODIFIED:20251230T081001Z
UID:10001498-1767225600-1767311999@elizagipuzkoa.org
SUMMARY:Santa María Madre de Dios
DESCRIPTION:
URL:https://elizagipuzkoa.org/evento/santa-maria-madre-de-dios/
CATEGORIES:Fiestas y días señalados
END:VEVENT
BEGIN:VEVENT
DTSTART;VALUE=DATE:20260105
DTEND;VALUE=DATE:20260106
DTSTAMP:20260421T131529
CREATED:20251229T080951Z
LAST-MODIFIED:20251229T081357Z
UID:10001438-1767571200-1767657599@elizagipuzkoa.org
SUMMARY:Roscón solidario
DESCRIPTION:Caritas Gipuzkoa\nPlaza Gipuzkoa (Donostia)\n10:00h
URL:https://elizagipuzkoa.org/evento/roscon-solidario/
CATEGORIES:Sociocaritativa
ATTACH;FMTTYPE=image/jpeg:https://elizagipuzkoa.org/wp-content/uploads/2025/12/Roscon_Solidario.jpg
END:VEVENT
BEGIN:VEVENT
DTSTART;VALUE=DATE:20260106
DTEND;VALUE=DATE:20260107
DTSTAMP:20260421T131529
CREATED:20251229T080315Z
LAST-MODIFIED:20251229T080315Z
UID:10001436-1767657600-1767743999@elizagipuzkoa.org
SUMMARY:Epifanía
DESCRIPTION:
URL:https://elizagipuzkoa.org/evento/epifania/
CATEGORIES:Fiestas y días señalados
END:VEVENT
BEGIN:VEVENT
DTSTART;TZID=Europe/Madrid:20260106T103000
DTEND;TZID=Europe/Madrid:20260106T130000
DTSTAMP:20260421T131529
CREATED:20251209T083310Z
LAST-MODIFIED:20251209T083310Z
UID:10001414-1767695400-1767704400@elizagipuzkoa.org
SUMMARY:Cierre de la Puerta Santa en el Centro Penitenciario de Martutene\, con la presencia del Obispo D. Fernando Prado
DESCRIPTION:
URL:https://elizagipuzkoa.org/evento/cierre-de-la-puerta-santa-en-el-centro-penitenciario-de-martutene-con-la-presencia-del-obispo-d-fernando-prado/
CATEGORIES:Obispo
END:VEVENT
BEGIN:VEVENT
DTSTART;VALUE=DATE:20260111
DTEND;VALUE=DATE:20260112
DTSTAMP:20260421T131529
CREATED:20251229T082211Z
LAST-MODIFIED:20251229T082211Z
UID:10001442-1768089600-1768175999@elizagipuzkoa.org
SUMMARY:Bautismo del Señor
DESCRIPTION:
URL:https://elizagipuzkoa.org/evento/bautismo-del-senor/
CATEGORIES:Fiestas y días señalados
END:VEVENT
BEGIN:VEVENT
DTSTART;VALUE=DATE:20260111
DTEND;VALUE=DATE:20260112
DTSTAMP:20260421T131529
CREATED:20260107T091154Z
LAST-MODIFIED:20260107T091154Z
UID:10001524-1768089600-1768175999@elizagipuzkoa.org
SUMMARY:Astotxo eguna en Lazkao
DESCRIPTION:
URL:https://elizagipuzkoa.org/evento/astotxo-eguna-en-lazkao/
CATEGORIES:Iglesia
END:VEVENT
BEGIN:VEVENT
DTSTART;TZID=Europe/Madrid:20260113T103000
DTEND;TZID=Europe/Madrid:20260113T123000
DTSTAMP:20260421T131529
CREATED:20260107T095431Z
LAST-MODIFIED:20260107T095431Z
UID:10001526-1768300200-1768307400@elizagipuzkoa.org
SUMMARY:Consejo de Arciprestes
DESCRIPTION:
URL:https://elizagipuzkoa.org/evento/consejo-de-arciprestes-3/
CATEGORIES:Obispo
END:VEVENT
BEGIN:VEVENT
DTSTART;TZID=Europe/Madrid:20260114T103000
DTEND;TZID=Europe/Madrid:20260114T130000
DTSTAMP:20260421T131529
CREATED:20260107T100038Z
LAST-MODIFIED:20260107T100038Z
UID:10001528-1768386600-1768395600@elizagipuzkoa.org
SUMMARY:Consejo ejecutivo
DESCRIPTION:
URL:https://elizagipuzkoa.org/evento/consejo-ejecutivo-12/
CATEGORIES:Obispo,Vicario General
END:VEVENT
BEGIN:VEVENT
DTSTART;TZID=Europe/Madrid:20260116T170000
DTEND;TZID=Europe/Madrid:20260116T180000
DTSTAMP:20260421T131529
CREATED:20260114T105801Z
LAST-MODIFIED:20260114T105801Z
UID:10001560-1768582800-1768586400@elizagipuzkoa.org
SUMMARY:Misa de despedida de las Siervas de Jesús (Irun) presidida por el obispo D. Fernando Prado Ayuso (17:00h)
DESCRIPTION:
URL:https://elizagipuzkoa.org/evento/misa-de-despedida-de-las-siervas-de-jesus-irun-presidida-por-el-obispo-d-fernando-prado-ayuso-1700h/
CATEGORIES:Obispo
END:VEVENT
BEGIN:VEVENT
DTSTART;VALUE=DATE:20260118
DTEND;VALUE=DATE:20260119
DTSTAMP:20260421T131529
CREATED:20251229T081803Z
LAST-MODIFIED:20251229T081803Z
UID:10001440-1768694400-1768780799@elizagipuzkoa.org
SUMMARY:Jornada de la infancia misionera
DESCRIPTION:
URL:https://elizagipuzkoa.org/evento/jornada-de-la-infancia-misionera/
CATEGORIES:Actividades diocesanas
END:VEVENT
BEGIN:VEVENT
DTSTART;VALUE=DATE:20260118
DTEND;VALUE=DATE:20260119
DTSTAMP:20260421T131529
CREATED:20260107T102751Z
LAST-MODIFIED:20260107T102751Z
UID:10001530-1768694400-1768780799@elizagipuzkoa.org
SUMMARY:2º del tiempo ordinario
DESCRIPTION:
URL:https://elizagipuzkoa.org/evento/2o-del-tiempo-ordinario/
CATEGORIES:Iglesia
END:VEVENT
BEGIN:VEVENT
DTSTART;VALUE=DATE:20260118
DTEND;VALUE=DATE:20260126
DTSTAMP:20260421T131529
CREATED:20251230T080711Z
LAST-MODIFIED:20251230T080853Z
UID:10001496-1768694400-1769385599@elizagipuzkoa.org
SUMMARY:Semana de Oración por la Unidad de los Cristianos
DESCRIPTION:
URL:https://elizagipuzkoa.org/evento/semana-de-oracion-por-la-unidad-de-los-cristianos/
CATEGORIES:Iglesia
END:VEVENT
BEGIN:VEVENT
DTSTART;TZID=Europe/Madrid:20260120T103000
DTEND;TZID=Europe/Madrid:20260120T123000
DTSTAMP:20260421T131529
CREATED:20260107T104753Z
LAST-MODIFIED:20260107T104753Z
UID:10001532-1768905000-1768912200@elizagipuzkoa.org
SUMMARY:San Sebastián. Misa en la Basílica de Santa María del Coro presidida por el Señor Obispo (10.30h)
DESCRIPTION:
URL:https://elizagipuzkoa.org/evento/san-sebastian-misa-en-la-basilica-de-santa-maria-del-coro-presidida-por-el-senor-obispo-10-30h/
CATEGORIES:Fiestas y días señalados,Obispo
END:VEVENT
BEGIN:VEVENT
DTSTART;TZID=Europe/Madrid:20260121T103000
DTEND;TZID=Europe/Madrid:20260121T130000
DTSTAMP:20260421T131529
CREATED:20260107T105955Z
LAST-MODIFIED:20260107T105955Z
UID:10001534-1768991400-1769000400@elizagipuzkoa.org
SUMMARY:Consejo ejecutivo
DESCRIPTION:
URL:https://elizagipuzkoa.org/evento/consejo-ejecutivo-13/
CATEGORIES:Obispo,Vicario General
END:VEVENT
BEGIN:VEVENT
DTSTART;TZID=Europe/Madrid:20260122T193000
DTEND;TZID=Europe/Madrid:20260122T210000
DTSTAMP:20260421T131529
CREATED:20260114T112202Z
LAST-MODIFIED:20260114T112524Z
UID:10001562-1769110200-1769115600@elizagipuzkoa.org
SUMMARY:Conferencia en la Catedral del Buen Pastor de D. Ramón Valdivia\, obispo auxiliar de Sevilla: El Ecumenismo en una historia común (19:30h)
DESCRIPTION:
URL:https://elizagipuzkoa.org/evento/conferencia-en-la-catedral-del-buen-pastor-de-d-ramon-valdivia-obispo-auxiliar-de-sevilla-el-ecumenismo-en-una-historia-comun-1930h/
CATEGORIES:Actividades diocesanas,Iglesia
END:VEVENT
BEGIN:VEVENT
DTSTART;TZID=Europe/Madrid:20260124T093000
DTEND;TZID=Europe/Madrid:20260124T130000
DTSTAMP:20260421T131529
CREATED:20251230T073215Z
LAST-MODIFIED:20251230T073215Z
UID:10001492-1769247000-1769259600@elizagipuzkoa.org
SUMMARY:Jornada formativa para el laicado
DESCRIPTION:“Sal y luz del mundo: laicos transformado la vida pública”\nSeminario diocesano\n24 de enero\, 9:30h -13:00h
URL:https://elizagipuzkoa.org/evento/jornada-formativa-para-el-laicado/
CATEGORIES:Actividades diocesanas
ATTACH;FMTTYPE=image/jpeg:https://elizagipuzkoa.org/wp-content/uploads/2025/12/Jornada_formativa_laicado.jpg
END:VEVENT
BEGIN:VEVENT
DTSTART;VALUE=DATE:20260125
DTEND;VALUE=DATE:20260126
DTSTAMP:20260421T131529
CREATED:20260107T111404Z
LAST-MODIFIED:20260107T111404Z
UID:10001536-1769299200-1769385599@elizagipuzkoa.org
SUMMARY:3º del tiempo ordinario
DESCRIPTION:
URL:https://elizagipuzkoa.org/evento/3o-del-tiempo-ordinario/
CATEGORIES:Iglesia
END:VEVENT
BEGIN:VEVENT
DTSTART;TZID=Europe/Madrid:20260125T110000
DTEND;TZID=Europe/Madrid:20260125T123000
DTSTAMP:20260421T131529
CREATED:20260107T111714Z
LAST-MODIFIED:20260107T111714Z
UID:10001538-1769338800-1769344200@elizagipuzkoa.org
SUMMARY:Confirmaciones en Azkoitia
DESCRIPTION:
URL:https://elizagipuzkoa.org/evento/confirmaciones-en-azkoitia/
CATEGORIES:Iglesia
END:VEVENT
BEGIN:VEVENT
DTSTART;VALUE=DATE:20260127
DTEND;VALUE=DATE:20260128
DTSTAMP:20260421T131529
CREATED:20260114T113151Z
LAST-MODIFIED:20260114T113151Z
UID:10001564-1769472000-1769558399@elizagipuzkoa.org
SUMMARY:Retiro para el Clero
DESCRIPTION:
URL:https://elizagipuzkoa.org/evento/retiro-para-el-clero-2/
CATEGORIES:Retiros y peregrinaciones
END:VEVENT
BEGIN:VEVENT
DTSTART;TZID=Europe/Madrid:20260127T100000
DTEND;TZID=Europe/Madrid:20260127T140000
DTSTAMP:20260421T131529
CREATED:20260107T111915Z
LAST-MODIFIED:20260107T111915Z
UID:10001540-1769508000-1769522400@elizagipuzkoa.org
SUMMARY:Retiro para el Clero
DESCRIPTION:
URL:https://elizagipuzkoa.org/evento/retiro-para-el-clero/
CATEGORIES:Retiros y peregrinaciones
END:VEVENT
BEGIN:VEVENT
DTSTART;TZID=Europe/Madrid:20260128T103000
DTEND;TZID=Europe/Madrid:20260128T130000
DTSTAMP:20260421T131529
CREATED:20260107T112242Z
LAST-MODIFIED:20260107T112242Z
UID:10001542-1769596200-1769605200@elizagipuzkoa.org
SUMMARY:Consejo ejecutivo
DESCRIPTION:
URL:https://elizagipuzkoa.org/evento/consejo-ejecutivo-14/
CATEGORIES:Obispo,Vicario General
END:VEVENT
BEGIN:VEVENT
DTSTART;TZID=Europe/Madrid:20260129T103000
DTEND;TZID=Europe/Madrid:20260129T133000
DTSTAMP:20260421T131529
CREATED:20260128T085931Z
LAST-MODIFIED:20260128T085931Z
UID:10001584-1769682600-1769693400@elizagipuzkoa.org
SUMMARY:Comisión de Renovación pastoral
DESCRIPTION:
URL:https://elizagipuzkoa.org/evento/comision-de-renovacion-pastoral/
CATEGORIES:Iglesia,Obispo,Vicario General
END:VEVENT
BEGIN:VEVENT
DTSTART;TZID=Europe/Madrid:20260131T100000
DTEND;TZID=Europe/Madrid:20260131T140000
DTSTAMP:20260421T131529
CREATED:20260128T090407Z
LAST-MODIFIED:20260128T090407Z
UID:10001586-1769853600-1769868000@elizagipuzkoa.org
SUMMARY:Reunión de los responsables de los consejos económicos de las Parroquias (Seminario)
DESCRIPTION:
URL:https://elizagipuzkoa.org/evento/reunion-de-los-responsables-de-los-consejos-economicos-de-las-parroquias-seminario/
CATEGORIES:Iglesia
END:VEVENT
BEGIN:VEVENT
DTSTART;TZID=Europe/Madrid:20260131T193000
DTEND;TZID=Europe/Madrid:20260131T203000
DTSTAMP:20260421T131529
CREATED:20260107T112632Z
LAST-MODIFIED:20260128T090623Z
UID:10001546-1769887800-1769891400@elizagipuzkoa.org
SUMMARY:Confirmaciones en la Parroquia de Loiola (San Sebastián)
DESCRIPTION:
URL:https://elizagipuzkoa.org/evento/confirmaciones-en-loiola/
CATEGORIES:Iglesia
END:VEVENT
END:VCALENDAR