BEGIN:VCALENDAR
VERSION:2.0
PRODID:-//Diócesis de San Sebastián - ECPv6.5.2//NONSGML v1.0//EN
CALSCALE:GREGORIAN
METHOD:PUBLISH
X-ORIGINAL-URL:https://elizagipuzkoa.org
X-WR-CALDESC:Events for Diócesis de San Sebastián
REFRESH-INTERVAL;VALUE=DURATION:PT1H
X-Robots-Tag:noindex
X-PUBLISHED-TTL:PT1H
BEGIN:VTIMEZONE
TZID:Europe/Madrid
BEGIN:DAYLIGHT
TZOFFSETFROM:+0100
TZOFFSETTO:+0200
TZNAME:CEST
DTSTART:20260329T010000
END:DAYLIGHT
BEGIN:STANDARD
TZOFFSETFROM:+0200
TZOFFSETTO:+0100
TZNAME:CET
DTSTART:20261025T010000
END:STANDARD
END:VTIMEZONE
BEGIN:VEVENT
DTSTART;VALUE=DATE:20260201
DTEND;VALUE=DATE:20260202
DTSTAMP:20260421T132549
CREATED:20260107T114135Z
LAST-MODIFIED:20260107T114135Z
UID:10001548-1769904000-1769990399@elizagipuzkoa.org
SUMMARY:4º del Tiempo Ordinario
DESCRIPTION:
URL:https://elizagipuzkoa.org/evento/4o-del-tiempo-ordinario/
CATEGORIES:Iglesia
END:VEVENT
BEGIN:VEVENT
DTSTART;TZID=Europe/Madrid:20260201T190000
DTEND;TZID=Europe/Madrid:20260201T203000
DTSTAMP:20260421T132549
CREATED:20260114T114321Z
LAST-MODIFIED:20260114T114321Z
UID:10001566-1769972400-1769977800@elizagipuzkoa.org
SUMMARY:Eucaristia Vida Consagrada en la Catedral del Buen Pastor (19:00h)
DESCRIPTION:
URL:https://elizagipuzkoa.org/evento/eucaristia-vida-consagrada-en-la-catedral-del-buen-pastor-1900h/
CATEGORIES:Iglesia
END:VEVENT
BEGIN:VEVENT
DTSTART;VALUE=DATE:20260202
DTEND;VALUE=DATE:20260203
DTSTAMP:20260421T132549
CREATED:20251229T091539Z
LAST-MODIFIED:20251229T091539Z
UID:10001472-1769990400-1770076799@elizagipuzkoa.org
SUMMARY:Presentación del Señor
DESCRIPTION:
URL:https://elizagipuzkoa.org/evento/presentacion-del-senor/
CATEGORIES:Fiestas y días señalados
END:VEVENT
BEGIN:VEVENT
DTSTART;VALUE=DATE:20260206
DTEND;VALUE=DATE:20260207
DTSTAMP:20260421T132549
CREATED:20251230T081315Z
LAST-MODIFIED:20251230T081315Z
UID:10001500-1770336000-1770422399@elizagipuzkoa.org
SUMMARY:Día del ayuno voluntario (Manos Unidas)
DESCRIPTION:
URL:https://elizagipuzkoa.org/evento/dia-del-ayuno-voluntario-manos-unidas/
CATEGORIES:Campañas,Sociocaritativa
END:VEVENT
BEGIN:VEVENT
DTSTART;TZID=Europe/Madrid:20260207T100000
DTEND;TZID=Europe/Madrid:20260207T140000
DTSTAMP:20260421T132549
CREATED:20260114T122229Z
LAST-MODIFIED:20260128T123738Z
UID:10001574-1770458400-1770472800@elizagipuzkoa.org
SUMMARY:Bidetik\, en el Seminario (Pastoral Sociocaritativa) 10:00h
DESCRIPTION:
URL:https://elizagipuzkoa.org/evento/bidetik-pastoral-sociocaritativa/
CATEGORIES:Sociocaritativa
END:VEVENT
BEGIN:VEVENT
DTSTART;VALUE=DATE:20260208
DTEND;VALUE=DATE:20260209
DTSTAMP:20260421T132549
CREATED:20251229T091940Z
LAST-MODIFIED:20251229T091940Z
UID:10001474-1770508800-1770595199@elizagipuzkoa.org
SUMMARY:Campaña contra el hambre (Colecta)
DESCRIPTION:
URL:https://elizagipuzkoa.org/evento/campana-contra-el-hambre-colecta/
CATEGORIES:Campañas,Iglesia
END:VEVENT
BEGIN:VEVENT
DTSTART;VALUE=DATE:20260208
DTEND;VALUE=DATE:20260209
DTSTAMP:20260421T132549
CREATED:20260107T133959Z
LAST-MODIFIED:20260107T133959Z
UID:10001554-1770508800-1770595199@elizagipuzkoa.org
SUMMARY:5º del Tiempo Ordinario
DESCRIPTION:
URL:https://elizagipuzkoa.org/evento/5o-del-tiempo-ordinario/
CATEGORIES:Iglesia
END:VEVENT
BEGIN:VEVENT
DTSTART;VALUE=DATE:20260208
DTEND;VALUE=DATE:20260209
DTSTAMP:20260421T132549
CREATED:20260128T132828Z
LAST-MODIFIED:20260128T132828Z
UID:10001598-1770508800-1770595199@elizagipuzkoa.org
SUMMARY:XII Jornada Mundial de Oración y Reflexión contra la Trata de Personas
DESCRIPTION:
URL:https://elizagipuzkoa.org/evento/xii-jornada-mundial-de-oracion-y-reflexion-contra-la-trata-de-personas/
CATEGORIES:Sociocaritativa
END:VEVENT
BEGIN:VEVENT
DTSTART;TZID=Europe/Madrid:20260208T123000
DTEND;TZID=Europe/Madrid:20260208T140000
DTSTAMP:20260421T132549
CREATED:20260107T135220Z
LAST-MODIFIED:20260107T135220Z
UID:10001558-1770553800-1770559200@elizagipuzkoa.org
SUMMARY:Confirmaciones en la Parroquia María Auxiliadora de San Sebastián
DESCRIPTION:
URL:https://elizagipuzkoa.org/evento/confirmaciones-en-la-parroquia-maria-auxiliadora-de-san-sebastian/
CATEGORIES:Iglesia
END:VEVENT
BEGIN:VEVENT
DTSTART;VALUE=DATE:20260211
DTEND;VALUE=DATE:20260212
DTSTAMP:20260421T132549
CREATED:20251230T082018Z
LAST-MODIFIED:20251230T082018Z
UID:10001502-1770768000-1770854399@elizagipuzkoa.org
SUMMARY:Jornada Mundial del Enfermo: “La compasión del samaritano”
DESCRIPTION:
URL:https://elizagipuzkoa.org/evento/jornada-mundial-del-enfermo-la-compasion-del-samaritano/
CATEGORIES:Iglesia,Sociocaritativa
END:VEVENT
BEGIN:VEVENT
DTSTART;TZID=Europe/Madrid:20260211T100000
DTEND;TZID=Europe/Madrid:20260211T130000
DTSTAMP:20260421T132549
CREATED:20260115T100008Z
LAST-MODIFIED:20260115T100008Z
UID:10001580-1770804000-1770814800@elizagipuzkoa.org
SUMMARY:Jornadas Sacerdotales
DESCRIPTION:
URL:https://elizagipuzkoa.org/evento/jornadas-sacerdotales/2026-02-11/
CATEGORIES:Iglesia
END:VEVENT
BEGIN:VEVENT
DTSTART;TZID=Europe/Madrid:20260212T100000
DTEND;TZID=Europe/Madrid:20260212T130000
DTSTAMP:20260421T132549
CREATED:20260115T100008Z
LAST-MODIFIED:20260115T100008Z
UID:10001581-1770890400-1770901200@elizagipuzkoa.org
SUMMARY:Jornadas Sacerdotales
DESCRIPTION:
URL:https://elizagipuzkoa.org/evento/jornadas-sacerdotales/2026-02-12/
CATEGORIES:Iglesia
END:VEVENT
BEGIN:VEVENT
DTSTART;TZID=Europe/Madrid:20260212T170000
DTEND;TZID=Europe/Madrid:20260212T190000
DTSTAMP:20260421T132549
CREATED:20260115T095621Z
LAST-MODIFIED:20260121T120516Z
UID:10001578-1770915600-1770922800@elizagipuzkoa.org
SUMMARY:Conferencia de Dario Vitali sobre la Sinodalidad. Catedral del Buen Pastor 17:00h
DESCRIPTION:
URL:https://elizagipuzkoa.org/evento/conferencia-de-dario-vitali-sobre-la-sinodalidad-seminario-1600h/
CATEGORIES:Actividades diocesanas,Iglesia
END:VEVENT
BEGIN:VEVENT
DTSTART;TZID=Europe/Madrid:20260214T200000
DTEND;TZID=Europe/Madrid:20260214T210000
DTSTAMP:20260421T132549
CREATED:20260128T133908Z
LAST-MODIFIED:20260128T133908Z
UID:10001602-1771099200-1771102800@elizagipuzkoa.org
SUMMARY:Concierto-Oración en la parroquia San Ignacio de Gros\, San Sebastián (Pastoral de Personas Migradas) 20:00h
DESCRIPTION:
URL:https://elizagipuzkoa.org/evento/concierto-oracion-en-la-parroquia-san-ignacio-de-gros-san-sebastian-pastoral-de-personas-migradas-2000h/
CATEGORIES:Sociocaritativa
END:VEVENT
BEGIN:VEVENT
DTSTART;VALUE=DATE:20260215
DTEND;VALUE=DATE:20260216
DTSTAMP:20260421T132549
CREATED:20260128T134442Z
LAST-MODIFIED:20260128T134442Z
UID:10001606-1771113600-1771199999@elizagipuzkoa.org
SUMMARY:6º del Tiempo Ordinario
DESCRIPTION:
URL:https://elizagipuzkoa.org/evento/6o-del-tiempo-ordinario/
CATEGORIES:Iglesia
END:VEVENT
BEGIN:VEVENT
DTSTART;TZID=Europe/Madrid:20260215T120000
DTEND;TZID=Europe/Madrid:20260215T130000
DTSTAMP:20260421T132549
CREATED:20260128T134641Z
LAST-MODIFIED:20260128T134641Z
UID:10001608-1771156800-1771160400@elizagipuzkoa.org
SUMMARY:Confirmaciones en Eibar
DESCRIPTION:
URL:https://elizagipuzkoa.org/evento/confirmaciones-en-eibar/
CATEGORIES:Iglesia
END:VEVENT
BEGIN:VEVENT
DTSTART;TZID=Europe/Madrid:20260216T100000
DTEND;TZID=Europe/Madrid:20260216T140000
DTSTAMP:20260421T132549
CREATED:20260129T095354Z
LAST-MODIFIED:20260129T095354Z
UID:10001610-1771236000-1771250400@elizagipuzkoa.org
SUMMARY:Retiro para el Clero
DESCRIPTION:
URL:https://elizagipuzkoa.org/evento/retiro-para-el-clero-3/
CATEGORIES:Retiros y peregrinaciones
END:VEVENT
BEGIN:VEVENT
DTSTART;TZID=Europe/Madrid:20260217T103000
DTEND;TZID=Europe/Madrid:20260217T140000
DTSTAMP:20260421T132549
CREATED:20260129T095546Z
LAST-MODIFIED:20260129T095546Z
UID:10001612-1771324200-1771336800@elizagipuzkoa.org
SUMMARY:Consejo de Arciprestes
DESCRIPTION:
URL:https://elizagipuzkoa.org/evento/consejo-de-arciprestes-4/
CATEGORIES:Iglesia,Obispo
END:VEVENT
BEGIN:VEVENT
DTSTART;VALUE=DATE:20260218
DTEND;VALUE=DATE:20260219
DTSTAMP:20260421T132549
CREATED:20260129T095729Z
LAST-MODIFIED:20260129T095729Z
UID:10001614-1771372800-1771459199@elizagipuzkoa.org
SUMMARY:Miércoles de ceniza
DESCRIPTION:
URL:https://elizagipuzkoa.org/evento/miercoles-de-ceniza-2/
CATEGORIES:Fiestas y días señalados
END:VEVENT
BEGIN:VEVENT
DTSTART;TZID=Europe/Madrid:20260218T103000
DTEND;TZID=Europe/Madrid:20260218T140000
DTSTAMP:20260421T132549
CREATED:20260129T112807Z
LAST-MODIFIED:20260129T112807Z
UID:10001618-1771410600-1771423200@elizagipuzkoa.org
SUMMARY:Consejo ejecutivo
DESCRIPTION:
URL:https://elizagipuzkoa.org/evento/consejo-ejecutivo-16/
CATEGORIES:Iglesia,Obispo,Vicario General
END:VEVENT
BEGIN:VEVENT
DTSTART;TZID=Europe/Madrid:20260218T190000
DTEND;TZID=Europe/Madrid:20260218T200000
DTSTAMP:20260421T132549
CREATED:20260217T130707Z
LAST-MODIFIED:20260217T130707Z
UID:10001654-1771441200-1771444800@elizagipuzkoa.org
SUMMARY:Misa Miércoles de ceniza en la Catedral del Buen Pastor presidida por el obispo D. Fernando Prado Ayuso
DESCRIPTION:
URL:https://elizagipuzkoa.org/evento/misa-miercoles-de-ceniza-en-la-catedral-del-buen-pastor-presidida-por-el-obispo-d-fernando-prado-ayuso/
CATEGORIES:Fiestas y días señalados,Obispo
END:VEVENT
BEGIN:VEVENT
DTSTART;TZID=Europe/Madrid:20260218T193000
DTEND;TZID=Europe/Madrid:20260218T203000
DTSTAMP:20260421T132549
CREATED:20260128T091716Z
LAST-MODIFIED:20260128T091716Z
UID:10001588-1771443000-1771446600@elizagipuzkoa.org
SUMMARY:Vigilia mensual por los Cristianos perseguidos (Parroquia Sagrada Familia\, San Sebastián) 19:30h
DESCRIPTION:
URL:https://elizagipuzkoa.org/evento/vigilia-mensual-por-los-cristianos-perseguidos-parroquia-sagrada-familia-san-sebastian-1930h/2026-02-18/
CATEGORIES:Iglesia
END:VEVENT
BEGIN:VEVENT
DTSTART;TZID=Europe/Madrid:20260219T100000
DTEND;TZID=Europe/Madrid:20260219T130000
DTSTAMP:20260421T132549
CREATED:20260217T131350Z
LAST-MODIFIED:20260217T131350Z
UID:10001656-1771495200-1771506000@elizagipuzkoa.org
SUMMARY:Reunión de la Fundación ELIKEL en el Obispado (Seminario)
DESCRIPTION:
URL:https://elizagipuzkoa.org/evento/reunion-de-la-fundacion-elikel-en-el-obispado-seminario/
CATEGORIES:Iglesia
END:VEVENT
BEGIN:VEVENT
DTSTART;VALUE=DATE:20260221
DTEND;VALUE=DATE:20260222
DTSTAMP:20260421T132549
CREATED:20260129T115009Z
LAST-MODIFIED:20260129T115009Z
UID:10001622-1771632000-1771718399@elizagipuzkoa.org
SUMMARY:Retiro Emaus
DESCRIPTION:
URL:https://elizagipuzkoa.org/evento/retiro-emaus/
CATEGORIES:Retiros y peregrinaciones
END:VEVENT
BEGIN:VEVENT
DTSTART;TZID=Europe/Madrid:20260221T100000
DTEND;TZID=Europe/Madrid:20260221T140000
DTSTAMP:20260421T132549
CREATED:20260129T114422Z
LAST-MODIFIED:20260129T114422Z
UID:10001620-1771668000-1771682400@elizagipuzkoa.org
SUMMARY:Reunión de sacerdotes extranjeros
DESCRIPTION:
URL:https://elizagipuzkoa.org/evento/reunion-de-sacerdotes-extranjeros/
CATEGORIES:Iglesia
END:VEVENT
BEGIN:VEVENT
DTSTART;VALUE=DATE:20260222
DTEND;VALUE=DATE:20260223
DTSTAMP:20260421T132549
CREATED:20251229T085330Z
LAST-MODIFIED:20251229T085330Z
UID:10001454-1771718400-1771804799@elizagipuzkoa.org
SUMMARY:Primer Domingo de Cuaresma
DESCRIPTION:
URL:https://elizagipuzkoa.org/evento/primer-domingo-de-cuaresma/
CATEGORIES:Fiestas y días señalados
END:VEVENT
BEGIN:VEVENT
DTSTART;TZID=Europe/Madrid:20260222T100000
DTEND;TZID=Europe/Madrid:20260222T140000
DTSTAMP:20260421T132549
CREATED:20260129T115151Z
LAST-MODIFIED:20260129T115151Z
UID:10001624-1771754400-1771768800@elizagipuzkoa.org
SUMMARY:Encuentro iniciación cristiana adultos
DESCRIPTION:
URL:https://elizagipuzkoa.org/evento/encuentro-iniciacion-cristiana-adultos/
CATEGORIES:Iglesia
END:VEVENT
BEGIN:VEVENT
DTSTART;TZID=Europe/Madrid:20260222T160000
DTEND;TZID=Europe/Madrid:20260222T170000
DTSTAMP:20260421T132549
CREATED:20260129T115426Z
LAST-MODIFIED:20260129T115426Z
UID:10001626-1771776000-1771779600@elizagipuzkoa.org
SUMMARY:Rito de elección de catecumenos
DESCRIPTION:
URL:https://elizagipuzkoa.org/evento/rito-de-eleccion-de-catecumenos/
CATEGORIES:Iglesia
END:VEVENT
BEGIN:VEVENT
DTSTART;TZID=Europe/Madrid:20260224T180000
DTEND;TZID=Europe/Madrid:20260224T200000
DTSTAMP:20260421T132549
CREATED:20251229T075353Z
LAST-MODIFIED:20251229T075353Z
UID:10001432-1771956000-1771963200@elizagipuzkoa.org
SUMMARY:Mesa de Laicos
DESCRIPTION:Seminario diocesano\, de 18h. a 20h
URL:https://elizagipuzkoa.org/evento/mesa-de-laicos/
CATEGORIES:Actividades diocesanas
END:VEVENT
BEGIN:VEVENT
DTSTART;VALUE=DATE:20260228
DTEND;VALUE=DATE:20260301
DTSTAMP:20260421T132549
CREATED:20260129T115637Z
LAST-MODIFIED:20260129T115637Z
UID:10001628-1772236800-1772323199@elizagipuzkoa.org
SUMMARY:Confer: Salida cultural
DESCRIPTION:
URL:https://elizagipuzkoa.org/evento/confer-salida-cultural/
CATEGORIES:Iglesia
END:VEVENT
END:VCALENDAR