BEGIN:VCALENDAR
VERSION:2.0
PRODID:-//Diócesis de San Sebastián - ECPv6.5.2//NONSGML v1.0//EN
CALSCALE:GREGORIAN
METHOD:PUBLISH
X-ORIGINAL-URL:https://elizagipuzkoa.org
X-WR-CALDESC:Events for Diócesis de San Sebastián
REFRESH-INTERVAL;VALUE=DURATION:PT1H
X-Robots-Tag:noindex
X-PUBLISHED-TTL:PT1H
BEGIN:VTIMEZONE
TZID:Europe/Madrid
BEGIN:DAYLIGHT
TZOFFSETFROM:+0100
TZOFFSETTO:+0200
TZNAME:CEST
DTSTART:20260329T010000
END:DAYLIGHT
BEGIN:STANDARD
TZOFFSETFROM:+0200
TZOFFSETTO:+0100
TZNAME:CET
DTSTART:20261025T010000
END:STANDARD
END:VTIMEZONE
BEGIN:VEVENT
DTSTART;VALUE=DATE:20260301
DTEND;VALUE=DATE:20260302
DTSTAMP:20260421T145019
CREATED:20251229T085516Z
LAST-MODIFIED:20251229T085613Z
UID:10001456-1772323200-1772409599@elizagipuzkoa.org
SUMMARY:Segundo Domingo de Cuaresma
DESCRIPTION:
URL:https://elizagipuzkoa.org/evento/segundo-domingo-de-cuaresma/
CATEGORIES:Fiestas y días señalados
END:VEVENT
BEGIN:VEVENT
DTSTART;TZID=Europe/Madrid:20260304T100000
DTEND;TZID=Europe/Madrid:20260304T130000
DTSTAMP:20260421T145019
CREATED:20260202T115257Z
LAST-MODIFIED:20260202T115257Z
UID:10001632-1772618400-1772629200@elizagipuzkoa.org
SUMMARY:Consejo de Gobierno
DESCRIPTION:
URL:https://elizagipuzkoa.org/evento/consejo-de-gobierno-4/
CATEGORIES:Iglesia,Obispo
END:VEVENT
BEGIN:VEVENT
DTSTART;VALUE=DATE:20260307
DTEND;VALUE=DATE:20260308
DTSTAMP:20260421T145019
CREATED:20260202T115743Z
LAST-MODIFIED:20260226T093836Z
UID:10001634-1772841600-1772927999@elizagipuzkoa.org
SUMMARY:Retiro Diocesano: “Encuentros con la Palabra. Discípulos misioneros”
DESCRIPTION:El Área de Evangelización llevará a cabo el próximo 7 de marzo\, un retiro diocesano en el Centro de Espiritualidad de Loiola (Azpeitia) que lleva por título «Encuentros con la Palabra. Discípulos misioneros». El retiro está abierto a todas aquellas personas que quieran dedicar un tiempo a orar. \nPara participar\, hay que rellenar el siguiente formulario de datos: https://forms.office.com/e/K4cYc64vJN \nIdioma: Euskara \nHorario. \n10:00 Acogida\n10:30 Material de ayuda para la oración\n12:30 Lectio divina\n13:30 Comida\n15:00 Material de ayuda para la oración\n16:30 Puesta en común\n17:00 Fin de la jornada \nLa persona interesada\, mediante transferencia o Bizum\, debe de ingresar 30\,00 euros antes del jueves 27 de febrero. \nN.º de cuenta (Kutxabank): ES38 2095 5001 0910 6263 6815.\nBizum: Código “6965” \nLa inscripción se considerará formalizada una vez se realice el pago.
URL:https://elizagipuzkoa.org/evento/retiro-diocesano-2/
CATEGORIES:Retiros y peregrinaciones
ATTACH;FMTTYPE=image/png:https://elizagipuzkoa.org/wp-content/uploads/2026/02/Captura-de-pantalla-2026-02-18-131254.png
END:VEVENT
BEGIN:VEVENT
DTSTART;VALUE=DATE:20260308
DTEND;VALUE=DATE:20260309
DTSTAMP:20260421T145019
CREATED:20251229T085702Z
LAST-MODIFIED:20251229T085702Z
UID:10001458-1772928000-1773014399@elizagipuzkoa.org
SUMMARY:Tercer Domingo de Cuaresma
DESCRIPTION:
URL:https://elizagipuzkoa.org/evento/tercer-domingo-de-cuaresma/
CATEGORIES:Fiestas y días señalados
END:VEVENT
BEGIN:VEVENT
DTSTART;VALUE=DATE:20260308
DTEND;VALUE=DATE:20260309
DTSTAMP:20260421T145019
CREATED:20260227T095510Z
LAST-MODIFIED:20260227T103848Z
UID:10001658-1772928000-1773014399@elizagipuzkoa.org
SUMMARY:Asamblea de la Hospitalidad de Lourdes de Gipuzkoa
DESCRIPTION:
URL:https://elizagipuzkoa.org/evento/asamblea-de-la-hospitalidad-de-lourdes-de-gipuzkoa/
CATEGORIES:Iglesia
END:VEVENT
BEGIN:VEVENT
DTSTART;TZID=Europe/Madrid:20260308T150000
DTEND;TZID=Europe/Madrid:20260308T170000
DTSTAMP:20260421T145019
CREATED:20260202T120220Z
LAST-MODIFIED:20260220T142856Z
UID:10001636-1772982000-1772989200@elizagipuzkoa.org
SUMMARY:Convivencia para el Clero en el Seminario (-60 años)
DESCRIPTION:
URL:https://elizagipuzkoa.org/evento/convivencia-para-el-clero-en-el-seminario-50-anos/2026-03-08/
CATEGORIES:Retiros y peregrinaciones
END:VEVENT
BEGIN:VEVENT
DTSTART;TZID=Europe/Madrid:20260309T150000
DTEND;TZID=Europe/Madrid:20260309T170000
DTSTAMP:20260421T145019
CREATED:20260202T120220Z
LAST-MODIFIED:20260220T142856Z
UID:10001638-1773068400-1773075600@elizagipuzkoa.org
SUMMARY:Convivencia para el Clero en el Seminario (-60 años)
DESCRIPTION:
URL:https://elizagipuzkoa.org/evento/convivencia-para-el-clero-en-el-seminario-50-anos/2026-03-09/
CATEGORIES:Retiros y peregrinaciones
END:VEVENT
BEGIN:VEVENT
DTSTART;TZID=Europe/Madrid:20260310T150000
DTEND;TZID=Europe/Madrid:20260310T170000
DTSTAMP:20260421T145019
CREATED:20260202T120220Z
LAST-MODIFIED:20260220T142856Z
UID:10001639-1773154800-1773162000@elizagipuzkoa.org
SUMMARY:Convivencia para el Clero en el Seminario (-60 años)
DESCRIPTION:
URL:https://elizagipuzkoa.org/evento/convivencia-para-el-clero-en-el-seminario-50-anos/2026-03-10/
CATEGORIES:Retiros y peregrinaciones
END:VEVENT
BEGIN:VEVENT
DTSTART;VALUE=DATE:20260311
DTEND;VALUE=DATE:20260312
DTSTAMP:20260421T145019
CREATED:20260202T120841Z
LAST-MODIFIED:20260202T120841Z
UID:10001642-1773187200-1773273599@elizagipuzkoa.org
SUMMARY:Reunión Interdiocesana de Obispos
DESCRIPTION:
URL:https://elizagipuzkoa.org/evento/reunion-interdiocesana-de-obispos/
CATEGORIES:Obispo
END:VEVENT
BEGIN:VEVENT
DTSTART;TZID=Europe/Madrid:20260312T193000
DTEND;TZID=Europe/Madrid:20260312T213000
DTSTAMP:20260421T145019
CREATED:20260310T091833Z
LAST-MODIFIED:20260310T091833Z
UID:10001680-1773343800-1773351000@elizagipuzkoa.org
SUMMARY:Documental: “Semillas de Kivu”
DESCRIPTION:Parroquia Nuestra Señora del Juncal\, Irun (salón parroquial) \nMás información
URL:https://elizagipuzkoa.org/evento/documental-semillas-de-kivu/
CATEGORIES:Campañas,Sociocaritativa
END:VEVENT
BEGIN:VEVENT
DTSTART;VALUE=DATE:20260313
DTEND;VALUE=DATE:20260314
DTSTAMP:20260421T145019
CREATED:20260202T121325Z
LAST-MODIFIED:20260202T121325Z
UID:10001644-1773360000-1773446399@elizagipuzkoa.org
SUMMARY:24 horas para el Señor
DESCRIPTION:
URL:https://elizagipuzkoa.org/evento/24-horas-para-el-senor/
CATEGORIES:Iglesia
END:VEVENT
BEGIN:VEVENT
DTSTART;VALUE=DATE:20260313
DTEND;VALUE=DATE:20260314
DTSTAMP:20260421T145019
CREATED:20260202T121507Z
LAST-MODIFIED:20260202T121507Z
UID:10001646-1773360000-1773446399@elizagipuzkoa.org
SUMMARY:Vigilia de oración de los jóvenes
DESCRIPTION:
URL:https://elizagipuzkoa.org/evento/vigilia-de-oracion-de-los-jovenes/
CATEGORIES:Iglesia
END:VEVENT
BEGIN:VEVENT
DTSTART;TZID=Europe/Madrid:20260313T200000
DTEND;TZID=Europe/Madrid:20260313T210000
DTSTAMP:20260421T145019
CREATED:20260227T095847Z
LAST-MODIFIED:20260227T095847Z
UID:10001660-1773432000-1773435600@elizagipuzkoa.org
SUMMARY:Oracion por las vocaciones en la Catedral del Buen Pastor
DESCRIPTION:
URL:https://elizagipuzkoa.org/evento/oracion-por-las-vocaciones-en-la-catedral-del-buen-pastor/
CATEGORIES:Iglesia
END:VEVENT
BEGIN:VEVENT
DTSTART;VALUE=DATE:20260314
DTEND;VALUE=DATE:20260315
DTSTAMP:20260421T145019
CREATED:20260202T121734Z
LAST-MODIFIED:20260213T081259Z
UID:10001648-1773446400-1773532799@elizagipuzkoa.org
SUMMARY:Javierada
DESCRIPTION:“INVITADOS A LA FE” \nPRECIO DEL BILLETE DEL AUTOBUS: 30 € (Los menores de 18 años\, 20 €)\n(Pago por Bizum 646970983 – Poner nombre y apellido ) \nINSCRIPCIÓN Y MAS INFORMACIÓN:\nLlamando al Tel 943 285 000 (María Luisa)\nA través del formulario: https://docs.google.com/forms/d/e/1FAIpQLSflPmXSutUFGdXhqB1XY_ILaTpv5PW7c56yzISBJoQ2nfuvgw/viewform \nSALIDAS: Eibar\, Irun\, Zumaia\, Zumarraga\, San Sebastián\, Ordizia\, Legazpi\, Bergara… \nPLAZO: 3 de marzo
URL:https://elizagipuzkoa.org/evento/javierada/
CATEGORIES:Retiros y peregrinaciones
ATTACH;FMTTYPE=image/png:https://elizagipuzkoa.org/wp-content/uploads/2026/02/Captura-de-pantalla-2026-02-12-144132.png
END:VEVENT
BEGIN:VEVENT
DTSTART;VALUE=DATE:20260315
DTEND;VALUE=DATE:20260316
DTSTAMP:20260421T145019
CREATED:20251229T085913Z
LAST-MODIFIED:20251229T085913Z
UID:10001460-1773532800-1773619199@elizagipuzkoa.org
SUMMARY:Cuarto Domingo de Cuaresma
DESCRIPTION:
URL:https://elizagipuzkoa.org/evento/cuarto-domingo-de-cuaresma/
CATEGORIES:Fiestas y días señalados
END:VEVENT
BEGIN:VEVENT
DTSTART;VALUE=DATE:20260315
DTEND;VALUE=DATE:20260316
DTSTAMP:20260421T145019
CREATED:20260202T122042Z
LAST-MODIFIED:20260202T122042Z
UID:10001650-1773532800-1773619199@elizagipuzkoa.org
SUMMARY:Retiro de la Pastoral de Personas Migradas
DESCRIPTION:
URL:https://elizagipuzkoa.org/evento/retiro-de-la-pastoral-de-personas-migradas/
CATEGORIES:Retiros y peregrinaciones
END:VEVENT
BEGIN:VEVENT
DTSTART;TZID=Europe/Madrid:20260315T080000
DTEND;TZID=Europe/Madrid:20260315T170000
DTSTAMP:20260421T145019
CREATED:20251229T092207Z
LAST-MODIFIED:20251229T092207Z
UID:10001476-1773561600-1773594000@elizagipuzkoa.org
SUMMARY:Misiones diocesanas (Colecta)
DESCRIPTION:
URL:https://elizagipuzkoa.org/evento/misiones-diocesanas-colecta/
CATEGORIES:Campañas,Iglesia
END:VEVENT
BEGIN:VEVENT
DTSTART;TZID=Europe/Madrid:20260318T103000
DTEND;TZID=Europe/Madrid:20260318T130000
DTSTAMP:20260421T145019
CREATED:20260227T104125Z
LAST-MODIFIED:20260227T104125Z
UID:10001662-1773829800-1773838800@elizagipuzkoa.org
SUMMARY:Consejo ejecutivo
DESCRIPTION:
URL:https://elizagipuzkoa.org/evento/consejo-ejecutivo-5/
CATEGORIES:Iglesia,Obispo,Vicario General
END:VEVENT
BEGIN:VEVENT
DTSTART;TZID=Europe/Madrid:20260318T193000
DTEND;TZID=Europe/Madrid:20260318T203000
DTSTAMP:20260421T145019
CREATED:20260128T091716Z
LAST-MODIFIED:20260128T091716Z
UID:10001589-1773862200-1773865800@elizagipuzkoa.org
SUMMARY:Vigilia mensual por los Cristianos perseguidos (Parroquia Sagrada Familia\, San Sebastián) 19:30h
DESCRIPTION:
URL:https://elizagipuzkoa.org/evento/vigilia-mensual-por-los-cristianos-perseguidos-parroquia-sagrada-familia-san-sebastian-1930h/2026-03-18/
CATEGORIES:Iglesia
END:VEVENT
BEGIN:VEVENT
DTSTART;VALUE=DATE:20260319
DTEND;VALUE=DATE:20260320
DTSTAMP:20260421T145019
CREATED:20251229T091048Z
LAST-MODIFIED:20251229T091048Z
UID:10001466-1773878400-1773964799@elizagipuzkoa.org
SUMMARY:San José
DESCRIPTION:
URL:https://elizagipuzkoa.org/evento/san-jose/
CATEGORIES:Fiestas y días señalados
END:VEVENT
BEGIN:VEVENT
DTSTART;VALUE=DATE:20260321
DTEND;VALUE=DATE:20260322
DTSTAMP:20260421T145019
CREATED:20260227T104649Z
LAST-MODIFIED:20260227T104649Z
UID:10001666-1774051200-1774137599@elizagipuzkoa.org
SUMMARY:Asamblea de la Pastoral de la Salud
DESCRIPTION:
URL:https://elizagipuzkoa.org/evento/asamblea-de-la-pastoral-de-la-salud/
CATEGORIES:Iglesia,Sociocaritativa
END:VEVENT
BEGIN:VEVENT
DTSTART;VALUE=DATE:20260321
DTEND;VALUE=DATE:20260322
DTSTAMP:20260421T145019
CREATED:20260227T104846Z
LAST-MODIFIED:20260227T104846Z
UID:10001668-1774051200-1774137599@elizagipuzkoa.org
SUMMARY:Confer: Retiro
DESCRIPTION:
URL:https://elizagipuzkoa.org/evento/confer-retiro/
CATEGORIES:Retiros y peregrinaciones
END:VEVENT
BEGIN:VEVENT
DTSTART;VALUE=DATE:20260322
DTEND;VALUE=DATE:20260323
DTSTAMP:20260421T145019
CREATED:20251229T090438Z
LAST-MODIFIED:20251229T090438Z
UID:10001462-1774137600-1774223999@elizagipuzkoa.org
SUMMARY:Quinto Domingo de Cuaresma
DESCRIPTION:
URL:https://elizagipuzkoa.org/evento/quinto-domingo-de-cuaresma/
CATEGORIES:Fiestas y días señalados
END:VEVENT
BEGIN:VEVENT
DTSTART;VALUE=DATE:20260322
DTEND;VALUE=DATE:20260323
DTSTAMP:20260421T145019
CREATED:20260227T105015Z
LAST-MODIFIED:20260227T105015Z
UID:10001670-1774137600-1774223999@elizagipuzkoa.org
SUMMARY:Jornada Pastoral Sociocaritativa
DESCRIPTION:
URL:https://elizagipuzkoa.org/evento/jornada-pastoral-sociocaritativa/
CATEGORIES:Sociocaritativa
END:VEVENT
BEGIN:VEVENT
DTSTART;VALUE=DATE:20260323
DTEND;VALUE=DATE:20260324
DTSTAMP:20260421T145019
CREATED:20260227T105358Z
LAST-MODIFIED:20260227T105358Z
UID:10001672-1774224000-1774310399@elizagipuzkoa.org
SUMMARY:Retiro para el Clero
DESCRIPTION:
URL:https://elizagipuzkoa.org/evento/retiro-para-el-clero-4/
CATEGORIES:Retiros y peregrinaciones
END:VEVENT
BEGIN:VEVENT
DTSTART;TZID=Europe/Madrid:20260324T173000
DTEND;TZID=Europe/Madrid:20260324T200000
DTSTAMP:20260421T145019
CREATED:20260227T105531Z
LAST-MODIFIED:20260227T105531Z
UID:10001674-1774373400-1774382400@elizagipuzkoa.org
SUMMARY:Permanente EPK
DESCRIPTION:
URL:https://elizagipuzkoa.org/evento/permanente-epk/
CATEGORIES:Iglesia
END:VEVENT
BEGIN:VEVENT
DTSTART;TZID=Europe/Madrid:20260325T103000
DTEND;TZID=Europe/Madrid:20260325T130000
DTSTAMP:20260421T145019
CREATED:20260202T113711Z
LAST-MODIFIED:20260202T113711Z
UID:10001630-1774434600-1774443600@elizagipuzkoa.org
SUMMARY:Consejo ejecutivo
DESCRIPTION:
URL:https://elizagipuzkoa.org/evento/consejo-ejecutivo-4/
CATEGORIES:Obispo,Vicario General
END:VEVENT
BEGIN:VEVENT
DTSTART;VALUE=DATE:20260328
DTEND;VALUE=DATE:20260329
DTSTAMP:20260421T145019
CREATED:20260227T105741Z
LAST-MODIFIED:20260227T105741Z
UID:10001676-1774656000-1774742399@elizagipuzkoa.org
SUMMARY:Via Crucis a Arantzazu
DESCRIPTION:
URL:https://elizagipuzkoa.org/evento/via-crucis-a-arantzazu/
CATEGORIES:Iglesia
END:VEVENT
BEGIN:VEVENT
DTSTART;VALUE=DATE:20260328
DTEND;VALUE=DATE:20260329
DTSTAMP:20260421T145019
CREATED:20260227T110004Z
LAST-MODIFIED:20260227T110004Z
UID:10001678-1774656000-1774742399@elizagipuzkoa.org
SUMMARY:Topaki (Caritas)
DESCRIPTION:
URL:https://elizagipuzkoa.org/evento/topaki-caritas/
CATEGORIES:Iglesia
END:VEVENT
BEGIN:VEVENT
DTSTART;VALUE=DATE:20260329
DTEND;VALUE=DATE:20260330
DTSTAMP:20260421T145019
CREATED:20251229T090659Z
LAST-MODIFIED:20260326T130614Z
UID:10001464-1774742400-1774828799@elizagipuzkoa.org
SUMMARY:Domingo de Ramos. Misa de Domingo de Ramos en la Catedral del Buen Pastor Presidida por el Señor Obispo D. Fernando Prado (12:00h)
DESCRIPTION:
URL:https://elizagipuzkoa.org/evento/domingo-de-ramos/
CATEGORIES:Fiestas y días señalados
END:VEVENT
END:VCALENDAR