BEGIN:VCALENDAR
VERSION:2.0
PRODID:-//Diócesis de San Sebastián - ECPv6.5.2//NONSGML v1.0//EN
CALSCALE:GREGORIAN
METHOD:PUBLISH
X-ORIGINAL-URL:https://elizagipuzkoa.org
X-WR-CALDESC:Events for Diócesis de San Sebastián
REFRESH-INTERVAL;VALUE=DURATION:PT1H
X-Robots-Tag:noindex
X-PUBLISHED-TTL:PT1H
BEGIN:VTIMEZONE
TZID:Europe/Madrid
BEGIN:DAYLIGHT
TZOFFSETFROM:+0100
TZOFFSETTO:+0200
TZNAME:CEST
DTSTART:20260329T010000
END:DAYLIGHT
BEGIN:STANDARD
TZOFFSETFROM:+0200
TZOFFSETTO:+0100
TZNAME:CET
DTSTART:20261025T010000
END:STANDARD
END:VTIMEZONE
BEGIN:VEVENT
DTSTART;VALUE=DATE:20260501
DTEND;VALUE=DATE:20260502
DTSTAMP:20260421T180307
CREATED:20251229T091202Z
LAST-MODIFIED:20251229T091202Z
UID:10001468-1777593600-1777679999@elizagipuzkoa.org
SUMMARY:San José Obrero
DESCRIPTION:
URL:https://elizagipuzkoa.org/evento/san-jose-obrero/
CATEGORIES:Fiestas y días señalados
END:VEVENT
BEGIN:VEVENT
DTSTART;VALUE=DATE:20260503
DTEND;VALUE=DATE:20260504
DTSTAMP:20260421T180307
CREATED:20260331T114935Z
LAST-MODIFIED:20260331T114935Z
UID:10001716-1777766400-1777852799@elizagipuzkoa.org
SUMMARY:Quinto Domingo de Pascua
DESCRIPTION:
URL:https://elizagipuzkoa.org/evento/quinto-domingo-de-pascua/
CATEGORIES:Iglesia
END:VEVENT
BEGIN:VEVENT
DTSTART;TZID=Europe/Madrid:20260503T120000
DTEND;TZID=Europe/Madrid:20260503T130000
DTSTAMP:20260421T180307
CREATED:20260331T115100Z
LAST-MODIFIED:20260331T115100Z
UID:10001718-1777809600-1777813200@elizagipuzkoa.org
SUMMARY:Confirmaciones en Berastegi
DESCRIPTION:
URL:https://elizagipuzkoa.org/evento/confirmaciones-en-berastegi/
CATEGORIES:Iglesia
END:VEVENT
BEGIN:VEVENT
DTSTART;TZID=Europe/Madrid:20260506T100000
DTEND;TZID=Europe/Madrid:20260506T133000
DTSTAMP:20260421T180307
CREATED:20260415T104353Z
LAST-MODIFIED:20260415T104353Z
UID:10001720-1778061600-1778074200@elizagipuzkoa.org
SUMMARY:Consejo de gobierno
DESCRIPTION:
URL:https://elizagipuzkoa.org/evento/consejo-de-gobierno/
CATEGORIES:Iglesia,Obispo
END:VEVENT
BEGIN:VEVENT
DTSTART;VALUE=DATE:20260509
DTEND;VALUE=DATE:20260510
DTSTAMP:20260421T180307
CREATED:20260415T104537Z
LAST-MODIFIED:20260415T104537Z
UID:10001722-1778284800-1778371199@elizagipuzkoa.org
SUMMARY:Marcha nocturna a Itziar
DESCRIPTION:
URL:https://elizagipuzkoa.org/evento/marcha-nocturna-a-itziar/
CATEGORIES:Iglesia
END:VEVENT
BEGIN:VEVENT
DTSTART;TZID=Europe/Madrid:20260509T120000
DTEND;TZID=Europe/Madrid:20260509T133000
DTSTAMP:20260421T180307
CREATED:20260415T104729Z
LAST-MODIFIED:20260415T104729Z
UID:10001724-1778328000-1778333400@elizagipuzkoa.org
SUMMARY:Confirmaciones en la Catedral del Buen Pastor
DESCRIPTION:
URL:https://elizagipuzkoa.org/evento/confirmaciones-en-la-catedral-del-buen-pastor/
CATEGORIES:Iglesia
END:VEVENT
BEGIN:VEVENT
DTSTART;VALUE=DATE:20260510
DTEND;VALUE=DATE:20260511
DTSTAMP:20260421T180307
CREATED:20260415T105015Z
LAST-MODIFIED:20260415T105015Z
UID:10001726-1778371200-1778457599@elizagipuzkoa.org
SUMMARY:Sexto Domingo de Pascua
DESCRIPTION:
URL:https://elizagipuzkoa.org/evento/sexto-domingo-de-pascua/
CATEGORIES:Iglesia
END:VEVENT
BEGIN:VEVENT
DTSTART;VALUE=DATE:20260510
DTEND;VALUE=DATE:20260511
DTSTAMP:20260421T180307
CREATED:20260415T105219Z
LAST-MODIFIED:20260415T105219Z
UID:10001728-1778371200-1778457599@elizagipuzkoa.org
SUMMARY:Pascua del enfermo
DESCRIPTION:
URL:https://elizagipuzkoa.org/evento/pascua-del-enfermo/
CATEGORIES:Iglesia
END:VEVENT
BEGIN:VEVENT
DTSTART;TZID=Europe/Madrid:20260513T103000
DTEND;TZID=Europe/Madrid:20260513T133000
DTSTAMP:20260421T180307
CREATED:20260415T110143Z
LAST-MODIFIED:20260415T110143Z
UID:10001730-1778668200-1778679000@elizagipuzkoa.org
SUMMARY:Consejo ejecutivo
DESCRIPTION:
URL:https://elizagipuzkoa.org/evento/consejo-ejecutivo-3/
CATEGORIES:Obispo,Vicario General
END:VEVENT
BEGIN:VEVENT
DTSTART;TZID=Europe/Madrid:20260520T193000
DTEND;TZID=Europe/Madrid:20260520T203000
DTSTAMP:20260421T180307
CREATED:20260128T091716Z
LAST-MODIFIED:20260128T091716Z
UID:10001591-1779305400-1779309000@elizagipuzkoa.org
SUMMARY:Vigilia mensual por los Cristianos perseguidos (Parroquia Sagrada Familia\, San Sebastián) 19:30h
DESCRIPTION:
URL:https://elizagipuzkoa.org/evento/vigilia-mensual-por-los-cristianos-perseguidos-parroquia-sagrada-familia-san-sebastian-1930h/2026-05-20/
CATEGORIES:Iglesia
END:VEVENT
BEGIN:VEVENT
DTSTART;VALUE=DATE:20260524
DTEND;VALUE=DATE:20260525
DTSTAMP:20260421T180307
CREATED:20260107T073341Z
LAST-MODIFIED:20260107T073341Z
UID:10001522-1779580800-1779667199@elizagipuzkoa.org
SUMMARY:Pentecostés
DESCRIPTION:
URL:https://elizagipuzkoa.org/evento/pentecostes/
CATEGORIES:Fiestas y días señalados
END:VEVENT
END:VCALENDAR