BEGIN:VCALENDAR
VERSION:2.0
PRODID:-//Diócesis de San Sebastián - ECPv6.5.2//NONSGML v1.0//EN
CALSCALE:GREGORIAN
METHOD:PUBLISH
X-WR-CALNAME:Diócesis de San Sebastián
X-ORIGINAL-URL:https://elizagipuzkoa.org/eu/
X-WR-CALDESC:Events for Diócesis de San Sebastián
REFRESH-INTERVAL;VALUE=DURATION:PT1H
X-Robots-Tag:noindex
X-PUBLISHED-TTL:PT1H
BEGIN:VTIMEZONE
TZID:Europe/Madrid
BEGIN:DAYLIGHT
TZOFFSETFROM:+0100
TZOFFSETTO:+0200
TZNAME:CEST
DTSTART:20250330T010000
END:DAYLIGHT
BEGIN:STANDARD
TZOFFSETFROM:+0200
TZOFFSETTO:+0100
TZNAME:CET
DTSTART:20251026T010000
END:STANDARD
END:VTIMEZONE
BEGIN:VEVENT
DTSTART;VALUE=DATE:20251109
DTEND;VALUE=DATE:20251110
DTSTAMP:20260424T064645
CREATED:20250901T123306Z
LAST-MODIFIED:20250901T123335Z
UID:10001265-1762646400-1762732799@elizagipuzkoa.org
SUMMARY:Urtean zeharreko 32.
DESCRIPTION:
URL:https://elizagipuzkoa.org/eu/evento/32o-del-tiempo-ordinario/
CATEGORIES:Eliza
END:VEVENT
BEGIN:VEVENT
DTSTART;TZID=Europe/Madrid:20251109T110000
DTEND;TZID=Europe/Madrid:20251109T130000
DTSTAMP:20260424T064645
CREATED:20251013T093654Z
LAST-MODIFIED:20251107T092935Z
UID:10001309-1762686000-1762693200@elizagipuzkoa.org
SUMMARY:Ondarearen Europako jardunaldiak. Bisita komentatua (Astigarraga)
DESCRIPTION:Astigarraga ezagutuz: ibilaldia bere historian zehar
URL:https://elizagipuzkoa.org/eu/evento/jornadas-europeas-del-patrimonio-visita-comentada-en-astigarraga/
CATEGORIES:Kultura
END:VEVENT
END:VCALENDAR